BEGIN:VCALENDAR
VERSION:2.0
PRODID:-//RIGHTHERE//CALENDARIZE IT V3.2//EN
BEGIN:VEVENT
UID:5823-events@www.modernmysteryschoolmsp.com
DTSTART;VALUE=DATE:20250823
DTEND;VALUE=DATE:20250825
DTSTAMP:20250728T184528Z
SUMMARY:Empower Thyself Initiation with Katherine
RDATE;VALUE=PERIOD:20260425T000000/20260426T000000
URL:https://www.modernmysteryschoolmsp.com/events/empower-thyself-initiatio
 n-with-katherine/
END:VEVENT
END:VCALENDAR