BEGIN:VCALENDAR
VERSION:2.0
PRODID:-//RIGHTHERE//CALENDARIZE IT V3.2//EN
BEGIN:VEVENT
UID:5724-events@www.modernmysteryschoolmsp.com
DTSTART:20250624T173000Z
DTEND:20250624T213000Z
DTSTAMP:20250609T103338Z
SUMMARY:Sacred Geometry Level 1
RDATE;VALUE=PERIOD:20250924T173000/20250924T213000,20251208T173000/20251208
 T213000,20260411T090000/20260411T130000,20260527T173000/20260527T213000
URL:https://www.modernmysteryschoolmsp.com/events/sacred-geometry-level-1-2
 /
ORGANIZER;CN=Kristina Nesse:
LOCATION:7801 East Bush Lake Road\, Suite 240
END:VEVENT
END:VCALENDAR