BEGIN:VCALENDAR
VERSION:2.0
PRODID:-//RIGHTHERE//CALENDARIZE IT V3.2//EN
BEGIN:VEVENT
UID:5710-events@www.modernmysteryschoolmsp.com
DTSTART:20250627T130000Z
DTEND:20250627T133000Z
DTSTAMP:20250603T102621Z
SUMMARY:Free Webinar: Introduction to Life Activation
RDATE;VALUE=PERIOD:20250717T130000/20250717T133000,20250821T130000/20250821
 T133000,20260508T150000/20260508T154500,20260618T150000/20260618T154500
URL:https://www.modernmysteryschoolmsp.com/events/introduction-to-life-acti
 vation/
END:VEVENT
END:VCALENDAR