BEGIN:VCALENDAR
VERSION:2.0
PRODID:-//RIGHTHERE//CALENDARIZE IT V3.2//EN
BEGIN:VEVENT
UID:3032-events@www.modernmysteryschoolmsp.com
DTSTART:20210611T100000Z
DTEND:20210612T200000Z
DTSTAMP:20191031T172124Z
SUMMARY:Galactic Activation
URL:https://www.modernmysteryschoolmsp.com/galactic-activation/
END:VEVENT
END:VCALENDAR